BEGIN:VCALENDAR
VERSION:2.0
PRODID:-//Tukios.com/
BEGIN:VEVENT
UID:661ed6e1-974b-4398-9553-b38ea64242db@www.mcgrawkowalfuneralhome.com
DTSTAMP:20260421T004029Z
DTSTART:20260425T140000Z
DTEND:20260425T150000Z
SUMMARY:Mass
DESCRIPTION:
URL:https://www.mcgrawkowalfuneralhome.com/obituaries/jean-dill
LOCATION:Holy Trinity Roman Catholic Church 1032 Central Ave  Dunkirk NY 
	14048
GEO:42.4645265;-79.3330894
END:VEVENT
END:VCALENDAR