BEGIN:VCALENDAR
VERSION:2.0
PRODID:-//Tukios.com/
BEGIN:VEVENT
UID:6954f523-f6c5-44d0-b824-70e364e799a5@www.mcgrawkowalfuneralhome.com
DTSTAMP:20260421T004029Z
DTSTART:20260424T190000Z
DTEND:20260424T220000Z
SUMMARY:Visitation
DESCRIPTION:
URL:https://www.mcgrawkowalfuneralhome.com/obituaries/jean-dill
LOCATION:McGraw-Kowal Funeral Home 736 Central Ave  Dunkirk NY 14048
GEO:42.4760718;-79.3324305
END:VEVENT
END:VCALENDAR